BEGIN:VCALENDAR
VERSION:2.0
PRODID:-//United Beagle Gundog Federation - ECPv6.15.20//NONSGML v1.0//EN
CALSCALE:GREGORIAN
METHOD:PUBLISH
X-WR-CALNAME:United Beagle Gundog Federation
X-ORIGINAL-URL:https://ubgf.org
X-WR-CALDESC:Events for United Beagle Gundog Federation
REFRESH-INTERVAL;VALUE=DURATION:PT1H
X-Robots-Tag:noindex
X-PUBLISHED-TTL:PT1H
BEGIN:VTIMEZONE
TZID:America/Chicago
BEGIN:DAYLIGHT
TZOFFSETFROM:-0600
TZOFFSETTO:-0500
TZNAME:CDT
DTSTART:20240310T080000
END:DAYLIGHT
BEGIN:STANDARD
TZOFFSETFROM:-0500
TZOFFSETTO:-0600
TZNAME:CST
DTSTART:20241103T070000
END:STANDARD
BEGIN:DAYLIGHT
TZOFFSETFROM:-0600
TZOFFSETTO:-0500
TZNAME:CDT
DTSTART:20250309T080000
END:DAYLIGHT
BEGIN:STANDARD
TZOFFSETFROM:-0500
TZOFFSETTO:-0600
TZNAME:CST
DTSTART:20251102T070000
END:STANDARD
BEGIN:DAYLIGHT
TZOFFSETFROM:-0600
TZOFFSETTO:-0500
TZNAME:CDT
DTSTART:20260308T080000
END:DAYLIGHT
BEGIN:STANDARD
TZOFFSETFROM:-0500
TZOFFSETTO:-0600
TZNAME:CST
DTSTART:20261101T070000
END:STANDARD
END:VTIMEZONE
BEGIN:VEVENT
DTSTART;TZID=America/Chicago:20251128T080000
DTEND;TZID=America/Chicago:20251129T170000
DTSTAMP:20260424T070803
CREATED:20250809T192927Z
LAST-MODIFIED:20250809T192927Z
UID:9441-1764316800-1764435600@ubgf.org
SUMMARY:AA River City BC
DESCRIPTION:
URL:https://ubgf.org/events/aa-river-city-bc-4/
CATEGORIES:All Age CHB Trial,All Age Licensed Trial
END:VEVENT
BEGIN:VEVENT
DTSTART;TZID=America/Chicago:20251128T080000
DTEND;TZID=America/Chicago:20251129T170000
DTSTAMP:20260424T070803
CREATED:20250809T193638Z
LAST-MODIFIED:20250809T193638Z
UID:9453-1764316800-1764435600@ubgf.org
SUMMARY:AA Rocky River BC
DESCRIPTION:
URL:https://ubgf.org/events/aa-rocky-river-bc-3/
CATEGORIES:All Age CHB Trial,All Age Licensed Trial
END:VEVENT
BEGIN:VEVENT
DTSTART;TZID=America/Chicago:20251128T080000
DTEND;TZID=America/Chicago:20251129T170000
DTSTAMP:20260424T070803
CREATED:20250809T194153Z
LAST-MODIFIED:20250809T194153Z
UID:9462-1764316800-1764435600@ubgf.org
SUMMARY:AA Pontotoc BC
DESCRIPTION:
URL:https://ubgf.org/events/aa-pontotoc-bc/
CATEGORIES:All Age CHB Trial,All Age Licensed Trial
END:VEVENT
BEGIN:VEVENT
DTSTART;TZID=America/Chicago:20251128T080000
DTEND;TZID=America/Chicago:20251129T170000
DTSTAMP:20260424T070803
CREATED:20251010T132028Z
LAST-MODIFIED:20251010T132028Z
UID:9608-1764316800-1764435600@ubgf.org
SUMMARY:AA Lotts Creek BC
DESCRIPTION:
URL:https://ubgf.org/events/aa-lotts-creek-bc-2/
CATEGORIES:All Age CHB Trial,All Age Licensed Trial
END:VEVENT
END:VCALENDAR